BEGIN:VCALENDAR
PRODID:-//dvv-bw.de//dvv.Portalplattform//DE
VERSION:2.0
METHOD:PUBLISH
BEGIN:VEVENT
DTSTART:20260508T170000Z
DTEND:20260508T190000Z
DTSTAMP:20260421T221244Z
UID:59929100-59929000-1778191200000
SUMMARY:Anatevka
DESCRIPTION:Anatevka\nTheateraufführung der 8. Klasse der Freien Waldorfschule Crailsheim im Theaterzelt auf dem Schulhof Freie Waldorfschule Crailsheim\, Burgbergstraße 45-51. \nEssen und Trinken in der Pause. \nEintritt frei / Spenden erbeten.
CLASS:PUBLIC
X-ALT-DESC;FMTTYPE=text/html:Anatevka<br>Theateraufführung der 8. Klasse der Freien Waldorfschule Crailsheim im Theaterzelt auf dem Schulhof Freie Waldorfschule Crailsheim\, Burgbergstraße 45-51. <br>Essen und Trinken in der Pause. <br>Eintritt frei / Spenden erbeten.
END:VEVENT
END:VCALENDAR
